BEGIN:VCALENDAR
VERSION:2.0
PRODID:-//ChamberMaster//Event Calendar 2.0//EN
METHOD:PUBLISH
X-PUBLISHED-TTL:P3D
REFRESH-INTERVAL:P3D
CALSCALE:GREGORIAN
BEGIN:VEVENT
DTSTART:20260716T220000Z
DTEND:20260717T010000Z
X-MICROSOFT-CDO-ALLDAYEVENT:FALSE
SUMMARY:Wyoming County Chamber Annual Midsummer Mingle
DESCRIPTION:Join us for our largest event of the year an evening of great food\, drinks\, and valuable networking with fellow Chamber members and community professionals.
X-ALT-DESC;FMTTYPE=text/html:Join us for our largest event of the year&mdash\;an evening of great food\, drinks\, and valuable networking with fellow Chamber members and community professionals.
LOCATION:Stonehedge Golf Course & Event Center 55 Stonehedge Dr Tunkhannock\, PA 18657
UID:e.2011.3125
SEQUENCE:3
DTSTAMP:20260421T221432Z
URL:https://business.wyccc.com/events/details/wyoming-county-chamber-annual-midsummer-mingle-3125
END:VEVENT

END:VCALENDAR
