BEGIN:VCALENDAR
VERSION:2.0
PRODID:-//ChamberMaster//Event Calendar 2.0//EN
METHOD:PUBLISH
X-PUBLISHED-TTL:P3D
REFRESH-INTERVAL:P3D
CALSCALE:GREGORIAN
BEGIN:VEVENT
DTSTART:20150514T130000Z
DTEND:20150514T160000Z
X-MICROSOFT-CDO-ALLDAYEVENT:FALSE
SUMMARY:The Energy Industry in Northeast PA: Local Benefits and Downstream Development
DESCRIPTION:You are invited to be a part of the Speakers conference on growing Pennsylvania industries and business activity around and beyond the drilling of Marcellus Shale gas.  The overall theme of this conference is how Pennsylvania   specifically the Northeast and North central regions   can take advantage of Natural Gas resources to build a thriving\, diverse economy that will not only weather the ups and downs of commodity prices\, but will last for generations to come.  \n\n \n\nThe event will be held on the campus of the Keystone College\, just west of the city of Scranton.  Full details are below:\n\n \n\nThe Energy Industry in Northeast Pennsylvania: Local Benefits and Downstream Development\n\nKeystone College\, Brooks Hall Theatre\n\nOne College Green\n\nLa Plume\, PA 18440\n\nThursday\, May 14\, 2015\n\n9:00 am   12:00 pm\n\n \n\nThe event will feature a series of speakers who will share a variety of perspectives regarding the development of the industry\, its impact on local business and job growth\, and the potential for future downstream development.\n\n \n\nRepresentatives from local business\, government\, and education will all be present.Topics may include:\n\n \n\n	Local business role in the Marcellus supply chain\n	The benefits of affordable natural gas to manufacturing\n	Contributions to local government revenues\n	Job training\n	Natural gas vehicles and fuels
X-ALT-DESC;FMTTYPE=text/html:<span style="font-size:14.0pt\;">You are invited to be a part of the Speakers conference on growing Pennsylvania industries and business activity around and beyond the drilling of Marcellus Shale gas.&nbsp\; The overall theme of this conference is how Pennsylvania &ndash\; specifically the Northeast and North central regions &ndash\; can take advantage of Natural Gas resources to build a thriving\, diverse economy that will not only weather the ups and downs of commodity prices\, but will last for generations to come.&nbsp\; </span><br />\n&nbsp\;<br />\n<span style="font-size:14.0pt\;">The event will be held on the campus of the Keystone College</span>\, just west of the city of Scranton.&nbsp\; Full details are below:<br />\n&nbsp\;<br />\n<strong><span style="font-size:14.0pt\;">The Energy Industry in Northeast Pennsylvania: Local Benefits and Downstream Development</span></strong><br />\n<span style="font-size:14.0pt\;">Keystone College\, Brooks Hall Theatre</span><br />\n<span style="font-size:14.0pt\;">One College Green</span><br />\n<span style="font-size:14.0pt\;">La Plume\, PA 18440</span><br />\n<span style="font-size:14.0pt\;">Thursday\, May 14\, 2015</span><br />\n<span style="font-size:14.0pt\;">9:00 am &ndash\; 12:00 pm</span><br />\n&nbsp\;<br />\n<span style="font-size:14.0pt\;">The event will feature a series of speakers who will share a variety of perspectives regarding the development of the industry\, its impact on local business and job growth\, and the potential for future downstream development.</span><br />\n&nbsp\;<br />\n<span style="font-size:14.0pt\;">Representatives from local business\, government\, and education will all be present.Topics may include:</span><br />\n&nbsp\;\n<ul>\n	<li><span style="font-size:14.0pt\;">Local business role in the Marcellus supply chain</span></li>\n	<li><span style="font-size:14.0pt\;">The benefits of affordable natural gas to manufacturing</span></li>\n	<li><span style="font-size:14.0pt\;">Contributions to local government revenues</span></li>\n	<li><span style="font-size:14.0pt\;">Job training</span></li>\n	<li><span style="font-size:14.0pt\;">Natural gas vehicles and fuels</span></li>\n</ul>\n&nbsp\;<br />\n&nbsp\;
LOCATION:Keystone College\, Brooks Hall Theatre One College Green La Plume\, PA 18440
UID:e.2011.154
SEQUENCE:3
DTSTAMP:20260423T123205Z
URL:https://business.wyccc.com/events/details/the-energy-industry-in-northeast-pa-local-benefits-and-downstream-development-05-14-2015-154
END:VEVENT

END:VCALENDAR
