BEGIN:VCALENDAR
VERSION:2.0
PRODID:-//ChamberMaster//Event Calendar 2.0//EN
METHOD:PUBLISH
X-PUBLISHED-TTL:P3D
REFRESH-INTERVAL:P3D
CALSCALE:GREGORIAN
BEGIN:VEVENT
DTSTART:20200920T150000Z
DTEND:20200920T210000Z
X-MICROSOFT-CDO-ALLDAYEVENT:FALSE
SUMMARY:Cruise and Brew to the Nimble Hill Growler Den
DESCRIPTION:Meet at Tunkhannock's Riverside Park at 11am where we will begin our 6 mile paddle to White's Ferry boat launch. Our shuttle will pick us up and deliver us back to the Park where we will make our way to the Growler Den for a tasting of 4 craft beers and snacks. Reservations are required.
X-ALT-DESC;FMTTYPE=text/html:Meet at Tunkhannock&#39\;s Riverside Park at 11am where we will begin our 6 mile paddle to White&#39\;s Ferry boat launch. Our shuttle will pick us up and deliver us back to the Park where we will make our way to the Growler Den for a tasting of 4 craft beers and snacks. Reservations are required.
LOCATION:Tunkhannock's Riverside Park
UID:e.2011.2745
SEQUENCE:3
DTSTAMP:20260424T140201Z
URL:https://business.wyccc.com/events/details/cruise-and-brew-to-the-nimble-hill-growler-den-09-20-2020-2745
END:VEVENT

END:VCALENDAR
