BEGIN:VCALENDAR
VERSION:2.0
PRODID:-//ChamberMaster//Event Calendar 2.0//EN
METHOD:PUBLISH
X-PUBLISHED-TTL:P3D
REFRESH-INTERVAL:P3D
CALSCALE:GREGORIAN
BEGIN:VEVENT
DTSTART;VALUE=DATE:20261002
DTEND;VALUE=DATE:20261003
TRANSP:TRANSPARENT
X-MICROSOFT-CDO-ALLDAYEVENT:TRUE
SUMMARY:7th Annual 9-Hole Golf Tournament
DESCRIPTION:Join us for the 7th Annual 9-Hole Golf Tournament at Scranton Canoe Club\, featuring a 4-Man Captain & Crew (Scramble) format for an afternoon of golf\, networking\, and fun on the course. This annual event brings together members\, local professionals\, and community supporters for a relaxed and enjoyable tournament while supporting the Chamber and its ongoing work throughout the region.\n\nWhether you're playing for fun\, connecting with other businesses\, or looking to get your organization involved as a sponsor\, this tournament is a great way to spend the day and be part of a well-loved community event.
X-ALT-DESC;FMTTYPE=text/html:<p data-end="585" data-start="199">Join us for the 7th Annual 9-Hole Golf Tournament at Scranton Canoe Club\, featuring a 4-Man Captain &amp\; Crew (Scramble) format for an afternoon of golf\, networking\, and fun on the course. This annual event brings together members\, local professionals\, and community supporters for a relaxed and enjoyable tournament while supporting the Chamber and its ongoing work throughout the region.</p>\n\n<p data-end="804" data-start="587">Whether you&rsquo\;re playing for fun\, connecting with other businesses\, or looking to get your organization involved as a sponsor\, this tournament is a great way to spend the day and be part of a well-loved community event.</p>\n\n<p data-end="530" data-start="196"><br />\n&nbsp\;</p>\n
LOCATION:Scranton Canoe Club
UID:e.2011.3123
SEQUENCE:3
DTSTAMP:20260421T195844Z
URL:https://business.wyccc.com/events/details/7th-annual-9-hole-golf-tournament-3123
END:VEVENT

END:VCALENDAR
